BEGIN:VCALENDAR
VERSION:2.0
PRODID:-//ChamberMaster//Event Calendar 2.0//EN
METHOD:PUBLISH
X-PUBLISHED-TTL:P1H
REFRESH-INTERVAL:P1H
CALSCALE:GREGORIAN
BEGIN:VTIMEZONE
TZID:America/Los_Angeles
BEGIN:DAYLIGHT
RRULE:FREQ=YEARLY;BYMONTH=3;BYDAY=2SU
DTSTART:20070101T000000
TZOFFSETFROM:-0800
TZOFFSETTO:-0700
TZNAME:Pacific Daylight Time
END:DAYLIGHT
BEGIN:STANDARD
RRULE:FREQ=YEARLY;BYMONTH=11;BYDAY=1SU
DTSTART:20070101T000000
TZOFFSETFROM:-0700
TZOFFSETTO:-0800
TZNAME:Pacific Standard Time
END:STANDARD
END:VTIMEZONE
BEGIN:VEVENT
DTSTART;TZID=America/Los_Angeles:20260406T080000
DTEND;TZID=America/Los_Angeles:20260425T170000
X-MICROSOFT-CDO-ALLDAYEVENT:FALSE
SUMMARY:$60\,000 Bunny Bucks Giveaway
DESCRIPTION:$60\,000 Bunny Bucks Giveaway\n\nSaturday\, April 25th | 7 PM\n\nHop on in – You could be one of 40 Winners of up to $4\,500 in Cash and Extra Play Cash!\n\nStarting April 1st\, play your favorite games with your Coeur Rewards card to earn 250 points per entry.
X-ALT-DESC;FMTTYPE=text/html:$60\,000 Bunny Bucks Giveaway\n\nSaturday\, April 25th | 7 PM\n\nHop on in – You could be one of 40 Winners of up to $4\,500 in Cash and Extra Play Cash!\n\nStarting April 1st\, play your favorite games with your Coeur Rewards card to earn 250 points per entry.
LOCATION:P.O. Box 236 37914 S Nukwalqw Rd Worley ID 83876
UID:e.4533.1437557
SEQUENCE:3
DTSTAMP:20260420T115651Z
URL:https://business.cdachamber.com/chamber-events-calendar/Details/60-000-bunny-bucks-giveaway-1701501?sourceTypeId=Hub
END:VEVENT
END:VCALENDAR
