BEGIN:VCALENDAR
VERSION:2.0
PRODID:-//ChamberMaster//Event Calendar 2.0//EN
METHOD:PUBLISH
X-PUBLISHED-TTL:P1H
REFRESH-INTERVAL:P1H
CALSCALE:GREGORIAN
BEGIN:VTIMEZONE
TZID:America/Los_Angeles
BEGIN:DAYLIGHT
RRULE:FREQ=YEARLY;BYMONTH=3;BYDAY=2SU
DTSTART:20070101T000000
TZOFFSETFROM:-0800
TZOFFSETTO:-0700
TZNAME:Pacific Daylight Time
END:DAYLIGHT
BEGIN:STANDARD
RRULE:FREQ=YEARLY;BYMONTH=11;BYDAY=1SU
DTSTART:20070101T000000
TZOFFSETFROM:-0700
TZOFFSETTO:-0800
TZNAME:Pacific Standard Time
END:STANDARD
END:VTIMEZONE
BEGIN:VEVENT
DTSTART;TZID=America/Los_Angeles:20260815T150000
DTEND;TZID=America/Los_Angeles:20260815T200000
X-MICROSOFT-CDO-ALLDAYEVENT:FALSE
SUMMARY:Ales for the Trail
DESCRIPTION:Ales for the Trail is the biggest craft beer festival in North Idaho\, set in the one-of-a-kind Coeur d'Alene City Park right on the beach of Lake Coeur d'Alene. Taste 60+ beers and ciders from over 25 breweries and cideries\, meet the actual brewers\, and enjoy live music\, food trucks\, games\, and raffle prizes. The elevated non-alcohol program features hand-crafted mocktails free with every ticket. VIP ticket holders get early entry\, a dedicated entrance\, stage-front seating\, access to a specialty beer bar\, raffle tickets\, and a food truck voucher. Kids are welcome accompanied with a guardian (ages 6 17 $10\, 5 and under free). All proceeds benefit the North Idaho Centennial Trail Foundation.
X-ALT-DESC;FMTTYPE=text/html:<!DOCTYPE html><html><head><title></title></head><body aria-disabled="false"><p dir="ltr" style="line-height:1.38\;margin-top:0pt\;margin-bottom:0pt\;"><span style="font-size:11pt\;font-family:Arial\,sans-serif\;color:#000000\;background-color:transparent\;font-weight:400\;font-style:normal\;font-variant:normal\;text-decoration:none\;vertical-align:baseline\;white-space:pre\;white-space:pre-wrap\;">Ales for the Trail is the biggest craft beer festival in North Idaho\, set in the one-of-a-kind Coeur d&#39\;Alene City Park right on the beach of Lake Coeur d&#39\;Alene. Taste 60+ beers and ciders from over 25 breweries and cideries\, meet the actual brewers\, and enjoy live music\, food trucks\, games\, and raffle prizes. The elevated non-alcohol program features hand-crafted mocktails free with every ticket. VIP ticket holders get early entry\, a dedicated entrance\, stage-front seating\, access to a specialty beer bar\, raffle tickets\, and a food truck voucher. Kids are welcome accompanied with a guardian (ages 6&ndash\;17 $10\, 5 and under free). All proceeds benefit the North Idaho Centennial Trail Foundation.</span></p></body></html>
LOCATION:
UID:e.4533.1443132
SEQUENCE:3
DTSTAMP:20260420T120606Z
URL:https://business.cdachamber.com/chamber-events-calendar/Details/ales-for-the-trail-1709342?sourceTypeId=Hub
END:VEVENT
END:VCALENDAR
