BEGIN:VCALENDAR
VERSION:2.0
PRODID:-//ChamberMaster//Event Calendar 2.0//EN
METHOD:PUBLISH
X-PUBLISHED-TTL:P1H
REFRESH-INTERVAL:P1H
CALSCALE:GREGORIAN
BEGIN:VTIMEZONE
TZID:America/Los_Angeles
BEGIN:DAYLIGHT
RRULE:FREQ=YEARLY;BYMONTH=3;BYDAY=2SU
DTSTART:20070101T000000
TZOFFSETFROM:-0800
TZOFFSETTO:-0700
TZNAME:Pacific Daylight Time
END:DAYLIGHT
BEGIN:STANDARD
RRULE:FREQ=YEARLY;BYMONTH=11;BYDAY=1SU
DTSTART:20070101T000000
TZOFFSETFROM:-0700
TZOFFSETTO:-0800
TZNAME:Pacific Standard Time
END:STANDARD
END:VTIMEZONE
BEGIN:VEVENT
DTSTART;TZID=America/Los_Angeles:20260502T120000
DTEND;TZID=America/Los_Angeles:20260502T170000
X-MICROSOFT-CDO-ALLDAYEVENT:FALSE
SUMMARY:Companions Animal Center Open House!
DESCRIPTION:Join us for afternoon of fun\, fur\, and family! Tour the shelter! Meet adoptable animals! Food trucks on site! Live music! Art Gallery - Purchase what suits your fancy and your budget! Something for everyone! All proceeds go to care for the animals! Woof! and MeWow!
X-ALT-DESC;FMTTYPE=text/html:<!DOCTYPE html><html><head><title></title></head><body aria-disabled="false"><p>Join us for afternoon of fun\, fur\, and family! Tour the shelter! Meet adoptable animals! Food trucks on site! Live music! Art Gallery - Purchase what suits your fancy and your budget! Something for everyone! All proceeds go to care for the animals! Woof! and MeWow!</p></body></html>
LOCATION:10275 N Atlas Rd Hayden ID 83835
UID:e.4533.1440409
SEQUENCE:3
DTSTAMP:20260420T120806Z
URL:https://business.cdachamber.com/chamber-events-calendar/Details/companions-animal-center-open-house-1705261?sourceTypeId=Hub
END:VEVENT
END:VCALENDAR
