BEGIN:VCALENDAR
VERSION:2.0
PRODID:-//ChamberMaster//Event Calendar 2.0//EN
METHOD:PUBLISH
X-PUBLISHED-TTL:P1H
REFRESH-INTERVAL:P1H
CALSCALE:GREGORIAN
BEGIN:VTIMEZONE
TZID:America/Los_Angeles
BEGIN:DAYLIGHT
RRULE:FREQ=YEARLY;BYMONTH=3;BYDAY=2SU
DTSTART:20070101T000000
TZOFFSETFROM:-0800
TZOFFSETTO:-0700
TZNAME:Pacific Daylight Time
END:DAYLIGHT
BEGIN:STANDARD
RRULE:FREQ=YEARLY;BYMONTH=11;BYDAY=1SU
DTSTART:20070101T000000
TZOFFSETFROM:-0700
TZOFFSETTO:-0800
TZNAME:Pacific Standard Time
END:STANDARD
END:VTIMEZONE
BEGIN:VEVENT
DTSTART;TZID=America/Los_Angeles:20260515T190000
DTEND;TZID=America/Los_Angeles:20260524T150000
X-MICROSOFT-CDO-ALLDAYEVENT:FALSE
SUMMARY:CYT North Idaho Presents: Anastasia
DESCRIPTION:This dazzling show transports its audience from the twilight of the Russian Empire to the euphoria of Paris in the 1920s\, as a brave young woman sets out to discover the mystery of her past. Pursued by a ruthless Soviet officer determined to silence her\, Anya enlists the aid of a dashing con man and a lovable ex-aristocrat. Together\, they embark on an epic adventure to help her find home\, love and family.Purchase tickets at cytnorthidaho.org/Shows
X-ALT-DESC;FMTTYPE=text/html:<!DOCTYPE html><html><head><title></title></head><body aria-disabled="false"><p><meta charset="utf-8">This dazzling show transports its audience from the twilight of the Russian Empire to the euphoria of Paris in the 1920s\, as a brave young woman sets out to discover the mystery of her past. Pursued by a ruthless Soviet officer determined to silence her\, Anya enlists the aid of a dashing con man and a lovable ex-aristocrat. Together\, they embark on an epic adventure to help her find home\, love and family.</p><p>Purchase tickets at <a fr-original-style="" href="https://www.cytnorthidaho.org/Shows" style="user-select: auto\;">cytnorthidaho.org/Shows</a></p></body></html>
LOCATION:
UID:e.4533.1439525
SEQUENCE:3
DTSTAMP:20260420T115803Z
URL:https://business.cdachamber.com/chamber-events-calendar/Details/cyt-north-idaho-presents-anastasia-1703964?sourceTypeId=Hub
END:VEVENT
END:VCALENDAR
