BEGIN:VCALENDAR
VERSION:2.0
PRODID:-//ChamberMaster//Event Calendar 2.0//EN
METHOD:PUBLISH
X-PUBLISHED-TTL:P1H
REFRESH-INTERVAL:P1H
CALSCALE:GREGORIAN
BEGIN:VTIMEZONE
TZID:America/Los_Angeles
BEGIN:DAYLIGHT
RRULE:FREQ=YEARLY;BYMONTH=3;BYDAY=2SU
DTSTART:20070101T000000
TZOFFSETFROM:-0800
TZOFFSETTO:-0700
TZNAME:Pacific Daylight Time
END:DAYLIGHT
BEGIN:STANDARD
RRULE:FREQ=YEARLY;BYMONTH=11;BYDAY=1SU
DTSTART:20070101T000000
TZOFFSETFROM:-0700
TZOFFSETTO:-0800
TZNAME:Pacific Standard Time
END:STANDARD
END:VTIMEZONE
BEGIN:VEVENT
DTSTART;TZID=America/Los_Angeles:20260524T120000
DTEND;TZID=America/Los_Angeles:20260524T170000
X-MICROSOFT-CDO-ALLDAYEVENT:FALSE
SUMMARY:HopDash Brewfest
DESCRIPTION:HopDash Brewfest is the official after-party for the Coeur d'Alene Marathon\, held on Memorial Day weekend in downtown Coeur d'Alene. Whether you just crossed the finish line or you're cheering from the sidelines\, this is the place to celebrate. Enjoy craft beer\, cider\, and wine tasting from local and regional producers\, grab a bite from food trucks\, and dance to a live DJ set by DJ Daymaker. Tickets are $35 and include tastings and a commemorative pint glass for early purchasers. All proceeds benefit the North Idaho Centennial Trail Foundation.
X-ALT-DESC;FMTTYPE=text/html:<!DOCTYPE html><html><head><title></title></head><body aria-disabled="false"><p dir="ltr" style="line-height:1.38\;margin-top:0pt\;margin-bottom:0pt\;"><span style="font-size:11pt\;font-family:Arial\,sans-serif\;color:#000000\;background-color:transparent\;font-weight:400\;font-style:normal\;font-variant:normal\;text-decoration:none\;vertical-align:baseline\;white-space:pre\;white-space:pre-wrap\;">HopDash Brewfest is the official after-party for the Coeur d&#39\;Alene Marathon\, held on Memorial Day weekend in downtown Coeur d&#39\;Alene. Whether you just crossed the finish line or you&#39\;re cheering from the sidelines\, this is the place to celebrate. Enjoy craft beer\, cider\, and wine tasting from local and regional producers\, grab a bite from food trucks\, and dance to a live DJ set by DJ Daymaker. Tickets are $35 and include tastings and a commemorative pint glass for early purchasers. All proceeds benefit the North Idaho Centennial Trail Foundation.</span></p></body></html>
LOCATION:
UID:e.4533.1443131
SEQUENCE:3
DTSTAMP:20260420T115051Z
URL:https://business.cdachamber.com/chamber-events-calendar/Details/hopdash-brewfest-1709341?sourceTypeId=Hub
END:VEVENT
END:VCALENDAR
