BEGIN:VCALENDAR
VERSION:2.0
PRODID:-//ChamberMaster//Event Calendar 2.0//EN
METHOD:PUBLISH
X-PUBLISHED-TTL:P1H
REFRESH-INTERVAL:P1H
CALSCALE:GREGORIAN
BEGIN:VTIMEZONE
TZID:America/Los_Angeles
BEGIN:DAYLIGHT
RRULE:FREQ=YEARLY;BYMONTH=3;BYDAY=2SU
DTSTART:20070101T000000
TZOFFSETFROM:-0800
TZOFFSETTO:-0700
TZNAME:Pacific Daylight Time
END:DAYLIGHT
BEGIN:STANDARD
RRULE:FREQ=YEARLY;BYMONTH=11;BYDAY=1SU
DTSTART:20070101T000000
TZOFFSETFROM:-0700
TZOFFSETTO:-0800
TZNAME:Pacific Standard Time
END:STANDARD
END:VTIMEZONE
BEGIN:VEVENT
DTSTART;TZID=America/Los_Angeles:20260504T080000
DTEND;TZID=America/Los_Angeles:20260507T170000
X-MICROSOFT-CDO-ALLDAYEVENT:FALSE
SUMMARY:Idaho Gives
DESCRIPTION:Idaho Gives is a statewide multi-day of giving campaign that rallies people across Idaho to donate to and support local nonprofits and causes they care about. Held annually through the Idaho Community Foundation\, it strengthens communities by raising awareness\, encouraging generosity\, and celebrating the impact of Idaho's nonprofit sector. Giving Period: May 4-7\, 2026 Early Giving: Starts April 14\, 2026
X-ALT-DESC;FMTTYPE=text/html:<!DOCTYPE html><html><head><title></title></head><body aria-disabled="false"><p>Idaho Gives is a statewide multi-day of giving campaign that rallies people across Idaho to donate to and support local nonprofits and causes they care about. Held annually through the Idaho Community Foundation\, it strengthens communities by raising awareness\, encouraging generosity\, and celebrating the impact of Idaho&rsquo\;s nonprofit sector. Giving Period: May 4-7\, 2026 Early Giving: Starts April 14\, 2026</p></body></html>
LOCATION:Coeur d'Alene ID 83814
UID:e.4533.1444077
SEQUENCE:3
DTSTAMP:20260420T115127Z
URL:https://business.cdachamber.com/chamber-events-calendar/Details/idaho-gives-1710388?sourceTypeId=Hub
END:VEVENT
END:VCALENDAR
