BEGIN:VCALENDAR
VERSION:2.0
PRODID:-//ChamberMaster//Event Calendar 2.0//EN
METHOD:PUBLISH
X-PUBLISHED-TTL:P1H
REFRESH-INTERVAL:P1H
CALSCALE:GREGORIAN
BEGIN:VTIMEZONE
TZID:America/Los_Angeles
BEGIN:DAYLIGHT
RRULE:FREQ=YEARLY;BYMONTH=3;BYDAY=2SU
DTSTART:20070101T000000
TZOFFSETFROM:-0800
TZOFFSETTO:-0700
TZNAME:Pacific Daylight Time
END:DAYLIGHT
BEGIN:STANDARD
RRULE:FREQ=YEARLY;BYMONTH=11;BYDAY=1SU
DTSTART:20070101T000000
TZOFFSETFROM:-0700
TZOFFSETTO:-0800
TZNAME:Pacific Standard Time
END:STANDARD
END:VTIMEZONE
BEGIN:VEVENT
DTSTART;TZID=America/Los_Angeles:20260313T160000
DTEND;TZID=America/Los_Angeles:20260313T190000
X-MICROSOFT-CDO-ALLDAYEVENT:FALSE
SUMMARY:Lucky Ewe Bingo
DESCRIPTION:FRIDAY\, MARCH 13th\n\nRegular Session\nAdmission Opens | 4 PM\nSession Begins | 6 PM\n\n10 winners of $500 Extra Play Cash.\n\nMust buy-in to participate.
X-ALT-DESC;FMTTYPE=text/html:FRIDAY\, MARCH 13th\n\nRegular Session\nAdmission Opens | 4 PM\nSession Begins | 6 PM\n\n10 winners of $500 Extra Play Cash.\n\nMust buy-in to participate.
LOCATION:37914 S Nukwalqw Rd Worley ID 83876
UID:e.4533.1409310
SEQUENCE:3
DTSTAMP:20260420T085038Z
URL:https://business.cdachamber.com/chamber-events-calendar/Details/lucky-ewe-bingo-1665454?sourceTypeId=Hub
END:VEVENT
END:VCALENDAR
