BEGIN:VCALENDAR
VERSION:2.0
PRODID:-//ChamberMaster//Event Calendar 2.0//EN
METHOD:PUBLISH
X-PUBLISHED-TTL:P1H
REFRESH-INTERVAL:P1H
CALSCALE:GREGORIAN
BEGIN:VTIMEZONE
TZID:America/Los_Angeles
BEGIN:DAYLIGHT
RRULE:FREQ=YEARLY;BYMONTH=3;BYDAY=2SU
DTSTART:20070101T000000
TZOFFSETFROM:-0800
TZOFFSETTO:-0700
TZNAME:Pacific Daylight Time
END:DAYLIGHT
BEGIN:STANDARD
RRULE:FREQ=YEARLY;BYMONTH=11;BYDAY=1SU
DTSTART:20070101T000000
TZOFFSETFROM:-0700
TZOFFSETTO:-0800
TZNAME:Pacific Standard Time
END:STANDARD
END:VTIMEZONE
BEGIN:VEVENT
DTSTART;TZID=America/Los_Angeles:20260912T130000
DTEND;TZID=America/Los_Angeles:20260912T180000
X-MICROSOFT-CDO-ALLDAYEVENT:FALSE
SUMMARY:Riverstone Block Party & Brewfest
DESCRIPTION:The Riverstone Block Party & Brewfest is a free\, family-friendly street fair on Main Street in Riverstone\, Coeur d'Alene. Browse 50+ local business vendors\, enjoy live music\, grab food from local food trucks\, and bring the kids for games and activities. Want to raise a glass? Purchase brewfest tickets separately for tastings from local and regional breweries and cideries. Pre-sale brewfest tickets are $30 and include 6 beer tickets and a commemorative glass. Day-of tickets are $35 (glass not guaranteed). Free parking throughout Riverstone. All proceeds benefit the North Idaho Centennial Trail Foundation.
X-ALT-DESC;FMTTYPE=text/html:<!DOCTYPE html><html><head><title></title></head><body aria-disabled="false"><p><span style="font-size:11pt\;font-family:Arial\,sans-serif\;color:#000000\;background-color:transparent\;font-weight:400\;font-style:normal\;font-variant:normal\;text-decoration:none\;vertical-align:baseline\;white-space:pre\;white-space:pre-wrap\;">The Riverstone Block Party &amp\; Brewfest is a free\, family-friendly street fair on Main Street in Riverstone\, Coeur d&#39\;Alene. Browse 50+ local business vendors\, enjoy live music\, grab food from local food trucks\, and bring the kids for games and activities. Want to raise a glass? Purchase brewfest tickets separately for tastings from local and regional breweries and cideries. Pre-sale brewfest tickets are $30 and include 6 beer tickets and a commemorative glass. Day-of tickets are $35 (glass not guaranteed). Free parking throughout Riverstone. All proceeds benefit the North Idaho Centennial Trail Foundation.</span></p></body></html>
LOCATION:
UID:e.4533.1443133
SEQUENCE:3
DTSTAMP:20260420T115803Z
URL:https://business.cdachamber.com/chamber-events-calendar/Details/riverstone-block-party-brewfest-1709343?sourceTypeId=Hub
END:VEVENT
END:VCALENDAR
